BEGIN:VCALENDAR
PRODID:-//Session events Calendar//IBA//EN
CALSCALE:GREGORIAN
VERSION:2.0
BEGIN:VEVENT
DTSTAMP:20260420T073102Z
DTSTART:20171011T093000Z
DTEND:20171011T123000Z
SUMMARY:Global anti-corruption update
DESCRIPTION:This annual and very popular session will review the current 
 trends and developments in anti-corruption policy\, investigations and e
 nforcement from around the world in an engaging roundtable dialogue with
  world experts. The session will review current and future trends in ant
 i-corruption laws\, enforcement and prosecutions.
LOCATION:Room C4.9\, Convention Centre\, Level 4
UID:a9b670c2-56f1-4f45-a95a-001cd5807d30
END:VEVENT
END:VCALENDAR
