BEGIN:VCALENDAR
PRODID:-//Session events Calendar//IBA//EN
CALSCALE:GREGORIAN
VERSION:2.0
BEGIN:VEVENT
DTSTAMP:20260424T094648Z
DTSTART:20171012T093000Z
DTEND:20171012T123000Z
SUMMARY:Banks and financial technology: will banks become back offices fo
 r FinTech companies?
DESCRIPTION:Efficiency and low costs of financial service: is that what m
 akes FinTech successful? How should banks respond? What is the regulator
 y response?\n\nLawyers\, industry representatives and regulators will di
 scuss whether pressure on banks from FinTech companies will force banks 
 to change their business model and how regulators with prudential or fin
 ancial stability mandate should react.
LOCATION:Room C4.10\, Convention Centre\, Level 4
UID:2962af48-420f-4d0f-9c1c-65d1d5fa577a
END:VEVENT
END:VCALENDAR
