BEGIN:VCALENDAR
PRODID:-//Session events Calendar//IBA//EN
CALSCALE:GREGORIAN
VERSION:2.0
BEGIN:VEVENT
DTSTAMP:20260420T002706Z
DTSTART:20171011T093000Z
DTEND:20171011T123000Z
SUMMARY:Managing high-profile criminal clients and cases
DESCRIPTION:High-profile criminal prosecutions present numerous challenge
 s for defence counsel. Not only must they prepare to represent their cli
 ent in a court of law but they must be prepared to respond to the court 
 of public opinion as well. This panel\, composed of experienced practiti
 oners in both criminal and media law\, will examine effective tactics fo
 r protecting your clients’ interests and rights in high-profile matters.
 
LOCATION:Room C3.2\, Convention Centre\, Level 3
UID:7511b174-4bf5-4955-b57b-b8998616af96
END:VEVENT
END:VCALENDAR
