BEGIN:VCALENDAR
PRODID:-//Session events Calendar//IBA//EN
CALSCALE:GREGORIAN
VERSION:2.0
BEGIN:VEVENT
DTSTAMP:20260420T072703Z
DTSTART:20171010T111500Z
DTEND:20171010T123000Z
SUMMARY:Rome is still burning: who has the most efficient insolvency syst
 em?
DESCRIPTION:Building on the results of a panel discussion at the 20th Ann
 ual Global Insolvency and Restructuring Conference in Barcelona\, 18-20 
 May 2014\, this interactive panel revisits the important issue of the co
 st-efficiency of insolvency proceedings. The discussion will involve exp
 erienced insolvency practitioners from jurisdictions such as Singapore a
 nd Italy\, which have recently reformed their insolvency laws\, a judge 
 from Australia who has been involved in recent high-profile cases\, and 
 a representative from the World Bank Group\, with the aim to find out wh
 ich elements make for a time and cost-effective insolvency procedure.
LOCATION:Room C2.2\, Convention Centre\, Level 2
UID:c592216f-bd74-46a5-bb1f-22b86cfc93d3
END:VEVENT
END:VCALENDAR
