BEGIN:VCALENDAR
PRODID:-//Session events Calendar//IBA//EN
CALSCALE:GREGORIAN
VERSION:2.0
BEGIN:VEVENT
DTSTAMP:20260419T162220Z
DTSTART:20171012T093000Z
DTEND:20171012T123000Z
SUMMARY:Duties\, risks and liability: selling financial products\, includ
 ing insurance
DESCRIPTION:This session will look at issues confronting issuers and inte
 rmediaries in the distribution of financial products\, particularly insu
 rance related products. The panel will explore the role of litigation in
  enforcing\, creating\, and in some instances\, further complicating the
  creation and distribution of financial products.
LOCATION:Room C4.9\, Convention Centre\, Level 4
UID:b27a9c6a-e57f-40fb-8c8c-c7eb28042522
END:VEVENT
END:VCALENDAR
