BEGIN:VCALENDAR
PRODID:-//Session events Calendar//IBA//EN
CALSCALE:GREGORIAN
VERSION:2.0
BEGIN:VEVENT
DTSTAMP:20260421T070715Z
DTSTART:20171011T143000Z
DTEND:20171011T154500Z
SUMMARY:Part A: evolution of disclosure requirements at time of placement
 
DESCRIPTION:The landmark English case of Carter v Boehm 250 years ago est
 ablished the duty of utmost good faith and imposed an onerous pre-contra
 ctual disclosure requirement for insureds. Until the UK Insurance Act 20
 15 was enacted\, English law remained largely unchanged. Australia’s law
  changed with the Insurance Contracts Act 1984\, but Australia now finds
  itself possibly behind the curve given the wider reach of the UK Insura
 nce Act 2015. Should Australia amend its laws? Which paths have the US a
 nd other countries in Asia and Europe chosen?
LOCATION:Room C3.6\, Convention Centre\, Level 3
UID:75c7d8fa-7e78-469a-9df9-f07b1c9b5929
END:VEVENT
END:VCALENDAR
