BEGIN:VCALENDAR
PRODID:-//Session events Calendar//IBA//EN
CALSCALE:GREGORIAN
VERSION:2.0
BEGIN:VEVENT
DTSTAMP:20260423T233703Z
DTSTART:20171009T093000Z
DTEND:20171009T123000Z
SUMMARY:Hot topics in international sales\, franchising and product law
DESCRIPTION:Our hot topics session is designed to be interactive – it is 
 the opposite of a ‘talking heads’ format! We host a series of tables whe
 re we discuss with you ‘late breaking’ topics in the areas of internatio
 nal sales\, franchising and product law. The format is interactive and t
 opics are selected to be of current interest\, and likely to stimulate d
 iscussion and debate. Moderators on each table introduce and briefly dis
 cuss the table topic\, and then the participants weigh in with their vie
 ws.\n\nYou will have the opportunity to discuss three topics. We have sc
 heduled turnover times when the participants change tables to move to th
 e next topic of their choice. By participating in the table discussions\
 , you will gain a greater insight into these areas and the other partici
 pants and table moderators will benefit from your comments.\n\nThe sessi
 on will provide you with a great opportunity to meet many other lawyers 
 and discuss topics of mutual interest with them. Many times at our table
  discussion\, participants meet lawyers from other countries who they ke
 ep in touch with for years to come. Each year\, our table moderators com
 ment that they learned as much or more from the table participants as th
 ey themselves conveyed!\n\nTable 1. Cryptolock\, ransomware\, bitcoin\, 
 the new reality\; impact to franchise systems\n\nTable 2. Selecting the 
 appropriate vehicle for international franchising (master franchising\, 
 area development\, area representatives\, joint venture\, direct licensi
 ng) and issues to consider such as IP\, due diligence etc.\n\nTable 3. C
 onsequences for breaching franchise legislation (new legislation in Aust
 ralia and other countries)\n\nTable 4. Struggling franchisees and sales 
 partners\n\nTable 5. How supply chains promote diversity\n\nTable 6. Ter
 ms and conditions of purchase and sale:  the clauses that matter in inte
 rnational sales\n\nTable 7. The increasing importance of choosing the ri
 ght venue for dispute resolution in international sales\n\nTable 8. Out 
 of store\, out of mind? - a SWOT analysis of a consumer products manufac
 turer's after sales services and obligations\n\nWe look forward to welco
 ming you to our ‘hot topic’ session in Sydney.
LOCATION:Room C4.11\, Convention Centre\, Level 4
UID:77ed0556-f68d-42c0-be20-8c0a22757664
END:VEVENT
END:VCALENDAR
