BEGIN:VCALENDAR
PRODID:-//Session events Calendar//IBA//EN
CALSCALE:GREGORIAN
VERSION:2.0
BEGIN:VEVENT
DTSTAMP:20260423T144133Z
DTSTART:20171012T093000Z
DTEND:20171012T123000Z
SUMMARY:Unrepresented litigants: the cost to clients and country
DESCRIPTION:The burden of self-representation extends well beyond the str
 ess to the litigant going it alone. This type of litigation tests the ca
 pacity of the courts to cope and creates expensive\, unnecessarily lengt
 hy hearings for the represented opponent. How this phenomenon can be add
 ressed and curbed will be explored.
LOCATION:Room C2.5\, Convention Centre\, Level 2
UID:e98a9101-207e-4f89-8d8f-b9e2e7e31471
END:VEVENT
END:VCALENDAR
