BEGIN:VCALENDAR
PRODID:-//Session events Calendar//IBA//EN
CALSCALE:GREGORIAN
VERSION:2.0
BEGIN:VEVENT
DTSTAMP:20260423T191734Z
DTSTART:20171009T093000Z
DTEND:20171009T123000Z
SUMMARY:Young lawyers' introductory session
DESCRIPTION:This session will assist young lawyers and newcomers in navig
 ating and making the most of the IBA Annual Conference\, from tips on ho
 w to network effectively\, assisting them in understanding the structure
  and function of the IBA\, as well as becoming involved in its committee
 s.\n\nThis session will also look at the skills and knowledge required t
 o become a successful international lawyer and aims to show which career
  ladder to climb.
LOCATION:Room C4.10\, Convention Centre\, Level 4
UID:c11d0aee-27e3-4dff-ba9e-401f34aec0e2
END:VEVENT
END:VCALENDAR
