BEGIN:VCALENDAR
PRODID:-//Session events Calendar//IBA//EN
CALSCALE:GREGORIAN
VERSION:2.0
BEGIN:VEVENT
DTSTAMP:20260425T204646Z
DTSTART:20171010T093000Z
DTEND:20171010T123000Z
SUMMARY:LPD Showcase: cybercrime and the media – unexpected risks to your
  clients\, your law firm and your government
DESCRIPTION:Over the last year\, there has been an ever-increasing focus 
 on electronic and cybercrime affecting lawyers\, governments and society
  more broadly. WikiLeaks started the avalanche of information being disc
 losed to the public\, which continues to this day\, impacting events as 
 significant as the US presidential election. The Panama Papers disclosed
  information about offshore tax structures of the wealthy\, famous and n
 ot so famous\, resulting in the resignation of at least one prime minist
 er. The Unaoil saga disclosed allegations of worldwide bribery through i
 ntermediary entities in the construction and procurement sectors in the 
 Middle East by multinational corporations.\n\nThis session will involve 
 a panel discussion followed by a hypothetical case study with audience Q
 &amp\;A and brings together a highly experienced range of international 
 and regional experts ranging from investigative journalists\, academics\
 , regulators and prosecutors to explore the following:\n\n• What is cybe
 rcrime and how is it being addressed by politicians and regulators?\n• W
 hat role do investigative journalists play in exposing conduct by those 
 exercising power and influence?\n• What is the impact on clients and a l
 aw firm when information is disclosed publicly?\n• How can lawyers manag
 e the risks that arise when confidential information is publicly disclos
 ed?\n• Where are governments going to from here – the legislative and so
 cial response?
LOCATION:Room C3.3\, Convention Centre\, Level 3
UID:5ef71d68-4f74-427f-88d2-da96946ac3a3
END:VEVENT
END:VCALENDAR
