BEGIN:VCALENDAR
PRODID:-//Session events Calendar//IBA//EN
CALSCALE:GREGORIAN
VERSION:2.0
BEGIN:VEVENT
DTSTAMP:20260422T235113Z
DTSTART:20171012T143000Z
DTEND:20171012T181500Z
SUMMARY:IBA Council meeting
DESCRIPTION:The IBA Council is the governing body of the IBA\, having the
  general control of the affairs of the IBA and passing\, as required\, r
 esolutions and guidelines for members and the legal profession worldwide
 . Those entitled to attend are IBA officers\, division officers\, Honora
 ry Life Members of the Council\, appointed representatives from Member O
 rganisations\, the appointed Deputy Secretary Generals and any co-opted 
 members.\n\nSign in from 1430.
LOCATION:Grand Ballroom\, Convention Centre\, Level 5
UID:d4116f56-d210-4d12-a35f-7457bf52139f
END:VEVENT
END:VCALENDAR
