BEGIN:VCALENDAR
PRODID:-//Session events Calendar//IBA//EN
CALSCALE:GREGORIAN
VERSION:2.0
BEGIN:VEVENT
DTSTAMP:20260420T083246Z
DTSTART:20170525T160000Z
DTEND:20170525T190000Z
SUMMARY:IBAHRI Council meeting
DESCRIPTION:AMB
LOCATION:Law Society of Northern Irleand
UID:62fa6e59-a4f4-41aa-98ac-714fd5a716d9
END:VEVENT
END:VCALENDAR
