BEGIN:VCALENDAR
PRODID:-//Session events Calendar//IBA//EN
CALSCALE:GREGORIAN
VERSION:2.0
BEGIN:VEVENT
DTSTAMP:20260421T143717Z
DTSTART:20170526T083000Z
DTEND:20170526T093000Z
SUMMARY:IBA Special Projects Fund meeting
DESCRIPTION:TD
LOCATION:Boardroom 2\, Level 2
UID:04e43d84-4ae5-4b56-9bc2-a308d7d2501a
END:VEVENT
END:VCALENDAR
