BEGIN:VCALENDAR
PRODID:-//Session events Calendar//IBA//EN
CALSCALE:GREGORIAN
VERSION:2.0
BEGIN:VEVENT
DTSTAMP:20260420T132713Z
DTSTART:20170526T110000Z
DTEND:20170526T123000Z
SUMMARY:Real Estate Section Officers' meeting
DESCRIPTION:
LOCATION:Boardroom 2\, Level 2
UID:3b5a79c2-37d3-4644-aff0-f95c2f9cef9a
END:VEVENT
END:VCALENDAR
