BEGIN:VCALENDAR
PRODID:-//Session events Calendar//IBA//EN
CALSCALE:GREGORIAN
VERSION:2.0
BEGIN:VEVENT
DTSTAMP:20260423T203427Z
DTSTART:20170613T090000Z
DTEND:20170613T091500Z
SUMMARY:Introduction and welcome remarks
DESCRIPTION:
LOCATION:
UID:554d23c0-1680-4550-b928-421051230783
END:VEVENT
END:VCALENDAR
