BEGIN:VCALENDAR
PRODID:-//Session events Calendar//IBA//EN
CALSCALE:GREGORIAN
VERSION:2.0
BEGIN:VEVENT
DTSTAMP:20260424T163922Z
DTSTART:20170509T113000Z
DTEND:20170509T114500Z
SUMMARY:ICC keynote address
DESCRIPTION:Legitimacy and effectiveness of antitrust enforcement
LOCATION:
UID:aca8910f-33df-420a-908e-7f62059335a2
END:VEVENT
END:VCALENDAR
