BEGIN:VCALENDAR
PRODID:-//Session events Calendar//IBA//EN
CALSCALE:GREGORIAN
VERSION:2.0
BEGIN:VEVENT
DTSTAMP:20260423T172705Z
DTSTART:20170527T130000Z
DTEND:20170527T190000Z
SUMMARY:IBA Management Board Strategy Meeting (Private Meeting)
DESCRIPTION:AW / RH / BV
LOCATION:Meeting Room 1\, Level 3
UID:52f0997c-973e-4133-84e9-5cd32452477d
END:VEVENT
END:VCALENDAR
