BEGIN:VCALENDAR
PRODID:-//Session events Calendar//IBA//EN
CALSCALE:GREGORIAN
VERSION:2.0
BEGIN:VEVENT
DTSTAMP:20260419T231722Z
DTSTART:20190301T040000Z
DTEND:20190301T052000Z
SUMMARY:Lunch
DESCRIPTION:
LOCATION:Hotel New Otani
UID:743cad85-ebb2-4c7c-af60-5f8c1ba4b1f2
END:VEVENT
END:VCALENDAR
