BEGIN:VCALENDAR
PRODID:-//Session events Calendar//IBA//EN
CALSCALE:GREGORIAN
VERSION:2.0
BEGIN:VEVENT
DTSTAMP:20260419T133455Z
DTSTART:20190228T071000Z
DTEND:20190228T073000Z
SUMMARY:Coffee/tea break
DESCRIPTION:
LOCATION:Hotel New Otani
UID:ef710c1d-2795-4f19-8a6c-c77c09d28fd9
END:VEVENT
END:VCALENDAR
