BEGIN:VCALENDAR
PRODID:-//Session events Calendar//IBA//EN
CALSCALE:GREGORIAN
VERSION:2.0
BEGIN:VEVENT
DTSTAMP:20260420T094006Z
DTSTART:20221103T201500Z
DTEND:20221103T213000Z
SUMMARY:Carve-out transactions and sale of sunset assets: surgical precis
 ion or nasty cut?
DESCRIPTION:Carve-out transactions and sunset asset divestitures have bec
 ome regular occurrences in the current M&amp\;A climate. For some they a
 re messy and desperate\, and give Buyer significant leverage to profit\;
  but in other cases clever sellers will be able to turn the tables. This
  panel will discuss the particularities of these transactions as compare
 d to traditional M&amp\;A as well as common pitfalls and points for atte
 ntion\, and ways to turn superior insight into tactical advantage.
LOCATION:Room 229 B\, Level 2
UID:3d5725eb-3091-4be9-9c1f-e877e878cdbc
END:VEVENT
END:VCALENDAR
