BEGIN:VCALENDAR
PRODID:-//Session events Calendar//IBA//EN
CALSCALE:GREGORIAN
VERSION:2.0
BEGIN:VEVENT
DTSTAMP:20260421T001111Z
DTSTART:20220301T143500Z
DTEND:20220301T161000Z
SUMMARY:Update on M&A
DESCRIPTION:\n	The use of holding companies in M&amp\;A\;\n	Private equit
 y and substance – physical concepts in a virtual world\;\n	Regulated ent
 ities\n	M&amp\;A management compensation\n	DAC 6 hybrid issues\n\n
LOCATION:
UID:5eeb2ff7-c62a-4e24-866d-94ecabea4748
END:VEVENT
END:VCALENDAR
