BEGIN:VCALENDAR
PRODID:-//Session events Calendar//IBA//EN
CALSCALE:GREGORIAN
VERSION:2.0
BEGIN:VEVENT
DTSTAMP:20260421T180328Z
DTSTART:20221103T133000Z
DTEND:20221103T163000Z
SUMMARY:SUSTAINABILITY FOCUS  SPPI Showcase: connecting the business of l
 aw and the rule of law – the IBA and the UN Sustainable Development Goal
 s
DESCRIPTION:SustainabilityFocusRuleOfLawAt the 2021 IBA Global Showcase\,
  Sanda Ojiambo\, the CEO and Executive Director of the UN Global Compact
  sent a clear message to the international legal community: “We cannot d
 eliver on the UN Sustainable Development Goals without peace\, justice a
 nd strong institutions”. Although the legal profession has a role to pla
 y in the effective implementation of most\, if not all\, of the 17 UN SD
 Gs\, and their translation into ESG activity\, UN SDG 16 covering "Peace
 \, Justice and Strong Institutions” lies at the heart of the IBA’s missi
 on. The business of law is not possible without the Rule of Law\, which 
 in its turn requires peace\, justice and strong institutions.\n\nThis sh
 owcase session\, presented by the IBA Section on Public and Professional
  Interest\, will focus on how UN SDG #16 provides a golden thread that r
 uns through much of the IBA’s activity. The session will be interactive 
 and innovative\, aiming to:\n\n\n	pool the ideas relating to SDGs and ES
 Gs discussed at other conference sessions held earlier in the week\, and
  connect them to “Peace\, Justice and Strong Institutions”\; and\n	crowd
 source the core content to ensure the IBA is actively collating key work
  on SDGs and ESG and sharing knowledge with members and others.\n\n\nBy 
 drawing directly and immediately on the activities of IBA committees\, s
 ections and regional fora\, we will build up a portrait of how the legal
  profession is contributing to UN SDG 16.\n\nIf you want to less talk an
 d more action this is the session to be at! Contact us if you would like
  your IBA session or other committee activities to be part of this.\n\nS
 USTAINABILITY FOCUS sessions marked as such are part of the IBA Annual C
 onference 2022 sustainability focus on Tuesday and Thursday\, grouping s
 essions discussing different aspects of ESG and sustainability across th
 e different legal fields.\n
LOCATION:Rooms 203-205\, Level 2
UID:bac6dbd8-0b42-4fa0-96d0-c14a5fa70fa6
END:VEVENT
END:VCALENDAR
