BEGIN:VCALENDAR
PRODID:-//Session events Calendar//IBA//EN
CALSCALE:GREGORIAN
VERSION:2.0
BEGIN:VEVENT
DTSTAMP:20260420T225026Z
DTSTART:20220516T063000Z
DTEND:20220516T064000Z
SUMMARY:Opening remarks by Conference Co-Chairs
DESCRIPTION:
LOCATION:
UID:59ffe8f9-080b-439e-9e82-847bcedd38c2
END:VEVENT
END:VCALENDAR
