BEGIN:VCALENDAR
PRODID:-//Session events Calendar//IBA//EN
CALSCALE:GREGORIAN
VERSION:2.0
BEGIN:VEVENT
DTSTAMP:20260420T154322Z
DTSTART:20220516T064500Z
DTEND:20220516T071500Z
SUMMARY:Introduction to the keynote address by the key note debate panel 
 members - innovation and international entrepreneurship
DESCRIPTION:Innovation is key for successful entrepreneurship\, especiall
 y in an international market. These days even more since the pandemic an
 d geopolitical challenges affect in many ways global business. Disruptio
 n of chain production\, increased prices and shortages of raw materials\
 , transportation availability and costs\, pre-pandemic fixed terms and c
 onditions are substantial hurdles for business to be conducted without s
 erious legal exposures. So companies need to be guided through these pro
 blem areas while there is also increasing demand for having a stronger f
 ocus on the environment. Not only does private enterprise recognise this
 \, but innovation is also strongly supported by governments that are try
 ing to create the best ecosystems for the development of innovation in t
 heir countries or territories. The Netherlands\, especially the city of 
 Amsterdam\, are a perfect example of this.\n\nA panel of experts in the 
 area of developing and promoting innovation will share their views on th
 e necessary ingredients for successful innovation in international entre
 preneurship.\n\nJoin our panellists in discussing and debating the sessi
 on’s topics from a variety of angles.\n
LOCATION:
UID:8c3966de-6002-412b-8286-90c36a8e05d4
END:VEVENT
END:VCALENDAR
