BEGIN:VCALENDAR
PRODID:-//Session events Calendar//IBA//EN
CALSCALE:GREGORIAN
VERSION:2.0
BEGIN:VEVENT
DTSTAMP:20260420T191229Z
DTSTART:20220516T081500Z
DTEND:20220516T091500Z
SUMMARY:A general counsel's view
DESCRIPTION:In this interactive session\, we will discuss with highly rep
 utable general counsel from multinational companies the main challenges 
 and trends they face when managing legal teams and dealing with complex 
 transactions and issues resulting from the global pandemic. They will sh
 are with us their personal experiences in running legal teams. \n\nThe d
 iscussion will focus on:\n\n\n	New needs and solutions following the mai
 n legal consequences of the pandemic on global business and trade\n	How 
 general counsel view and implement the provision of legal advice within 
 their respective companies\n	How they envision and manage complex proces
 ses\n	How and when they involve external counsel \n	How this collaborati
 on can become more productive and efficient \n\n\nWe will also address h
 ow corporations adapt to new regulatory frameworks and digital transform
 ation\, and comply with new environmental\, social and governance (ESG) 
 requirements. Finally\, we will discuss how we as lawyers can continue t
 o add value and ensure appropriate legal certainty to our clients. \n
LOCATION:
UID:e53ea277-6b76-449c-92f0-508ee68b161f
END:VEVENT
END:VCALENDAR
