BEGIN:VCALENDAR
PRODID:-//Session events Calendar//IBA//EN
CALSCALE:GREGORIAN
VERSION:2.0
BEGIN:VEVENT
DTSTAMP:20260421T020539Z
DTSTART:20220516T113000Z
DTEND:20220516T123000Z
SUMMARY:Lessons learned in negotiating M&A transaction documentation in a
  post(?)-Covid world
DESCRIPTION:The pandemic caused lawyers from all over the world to think 
 about\, discuss and negotiate new contractual stipulations in M&amp\;A d
 ocumentation\, such as purchase price adjustment mechanisms\, reps\, war
 ranties and indemnities for specific Covid-19 related risks\, extended m
 aterial adverse change clauses\, EBIT(DA)-normalisations\, shorter long-
 stop dates\, other earn-out mechanisms\, to mention but a few. What are 
 the lessons learned so far in relevant jurisdictions?\n\nOur panel of in
 dustry speakers and corporate lawyers will discuss the impact that Covid
 -19 has had on negotiating M&amp\;A transaction documentation\, the issu
 es they have faced and the solutions they have found.\n
LOCATION:
UID:b72cf21f-959e-44ec-96f6-7dc486808d73
END:VEVENT
END:VCALENDAR
