BEGIN:VCALENDAR
PRODID:-//Session events Calendar//IBA//EN
CALSCALE:GREGORIAN
VERSION:2.0
BEGIN:VEVENT
DTSTAMP:20260423T163149Z
DTSTART:20220517T064500Z
DTEND:20220517T072500Z
SUMMARY:Keynote address
DESCRIPTION:
LOCATION:
UID:6af864b8-2ef6-49e8-bfae-3c795497a469
END:VEVENT
END:VCALENDAR
