BEGIN:VCALENDAR
PRODID:-//Session events Calendar//IBA//EN
CALSCALE:GREGORIAN
VERSION:2.0
BEGIN:VEVENT
DTSTAMP:20260421T060844Z
DTSTART:20220606T110000Z
DTEND:20220606T111000Z
SUMMARY:Welcome address
DESCRIPTION:Shangri-La Rosa Sentosa
LOCATION:Shangri-La Rosa Sentosa
UID:579ddde3-6261-41ce-b6f0-9c8c7e7cc6a7
END:VEVENT
END:VCALENDAR
