BEGIN:VCALENDAR
PRODID:-//Session events Calendar//IBA//EN
CALSCALE:GREGORIAN
VERSION:2.0
BEGIN:VEVENT
DTSTAMP:20260421T105907Z
DTSTART:20220503T141500Z
DTEND:20220503T153000Z
SUMMARY:Breakout session 4: Women entrepreneurship in Latin America
DESCRIPTION:The purpose of this panel is to discuss motivation\, limitati
 ons and the impact of Covid-19 to the development of female entrepreneur
 ship in Latin America\, and what the roles of the private sector are to 
 provide the right environment to encourage new women-led businesses in a
 ll sectors in the Latin American region\, as well as to consolidate and 
 increase the presence of female leaders in the corporate sector.\n
LOCATION:
UID:9bd0d538-d16b-41fb-9d2f-58f8141b298e
END:VEVENT
END:VCALENDAR
