BEGIN:VCALENDAR
PRODID:-//Session events Calendar//IBA//EN
CALSCALE:GREGORIAN
VERSION:2.0
BEGIN:VEVENT
DTSTAMP:20260422T213307Z
DTSTART:20220503T173000Z
DTEND:20220503T184500Z
SUMMARY:Breakout session 6: Tech world M&A and the position of competitio
 n authorities
DESCRIPTION:During the last decade\, there has been an increase inM&amp\;
 A activity in digital markets. There is a clear tendency from the antitr
 ust authorities to update the analysis and the perspective when dealing 
 with antitrust cases and merger reviews in these markets. These developm
 ents bring new challenges for companies\, experts and lawyers.\n\nWhat i
 s happening around the world in antitrust regulation of digital markets?
  What is the approach of the authoritiesto M&amp\;A transactions involvi
 ng technology companies? How has cross-shareholding in the tech world in
  the mergers review process evolved? What are the main M&amp\;A decision
 s in digital markets and what principles can be determined for the futur
 e? Our panel will discuss the main current issues in competition and dig
 ital markets\, focusing on the main mergers\, acquisitions and joint ven
 tures in these markets.\n
LOCATION:
UID:dca067f4-fe19-4392-8b5f-21544f9ff2e7
END:VEVENT
END:VCALENDAR
