BEGIN:VCALENDAR
PRODID:-//Session events Calendar//IBA//EN
CALSCALE:GREGORIAN
VERSION:2.0
BEGIN:VEVENT
DTSTAMP:20260422T164915Z
DTSTART:20220512T150100Z
DTEND:20220512T161400Z
SUMMARY:The challenges of affected states undertaking accountability meas
 ures for international atrocity crimes through hybrid and domestic tribu
 nals
DESCRIPTION:
LOCATION:
UID:14095b86-ee49-44d7-b98c-17749088a5b7
END:VEVENT
END:VCALENDAR
