BEGIN:VCALENDAR
PRODID:-//Session events Calendar//IBA//EN
CALSCALE:GREGORIAN
VERSION:2.0
BEGIN:VEVENT
DTSTAMP:20260420T002829Z
DTSTART:20220615T070000Z
DTEND:20220615T081500Z
SUMMARY:The downfall of Operation Car Wash explained
DESCRIPTION:Praised as the largest anti-corruption probe ever launched\, 
 Operation Car Wash led to repercussions in several Latin American countr
 ies such as the arrests of tycoons and senior politicians\, including fo
 rmer presidents\, and some of the largest cross-border anti-corruption s
 ettlements ever paid. Even so\, like Mani pulite in Italy\, Operation Ca
 r Wash ended in a rather dismal state: several judicial decisions in Bra
 zil were rendered null and void\, and some prosecutors are being prosecu
 ted by those convicted of corruption. How was Operation Car Wash dismant
 led so easily during the pandemic? Is there a legacy or are there lesson
 s to be learned for anti-corruption enforcement?
LOCATION:
UID:54626a22-ee4e-44fe-b15b-aff36fee8046
END:VEVENT
END:VCALENDAR
