BEGIN:VCALENDAR
PRODID:-//Session events Calendar//IBA//EN
CALSCALE:GREGORIAN
VERSION:2.0
BEGIN:VEVENT
DTSTAMP:20260421T033351Z
DTSTART:20220930T120100Z
DTEND:20220930T125900Z
SUMMARY:Continuing legal education for judges: An indispensable tool in t
 he administration of justice
DESCRIPTION:
LOCATION:
UID:ff97872a-39b2-44ad-80c9-7f3fd6a2bf8a
END:VEVENT
END:VCALENDAR
