BEGIN:VCALENDAR
PRODID:-//Session events Calendar//IBA//EN
CALSCALE:GREGORIAN
VERSION:2.0
BEGIN:VEVENT
DTSTAMP:20260423T181207Z
DTSTART:20221104T133000Z
DTEND:20221104T144500Z
SUMMARY:Rule of Law Symposium: Ukraine - the role and rule of law in mode
 rn conflict
DESCRIPTION:RuleOfLawThis panel will focus on the role of international l
 aw in modern conflict generally and the Ukraine crisis specifically. Pan
 ellists will discuss war crimes enforcement/accountability\, de-escalati
 on/conflict resolution\, the role of sanctions and the role of private b
 usiness. As it concerns the Ukraine crisis\, panellists will consider wh
 ether or not the rule of law exists in conflicts involving superpowers a
 nd what can be done\, through the enforcement of international norms and
  instruments\, to restore the international rule of law in Ukraine.
LOCATION:Rooms 203-205\, Level 2
UID:1a5b9fcc-1923-4ed0-a1cd-2506af519fda
END:VEVENT
END:VCALENDAR
