BEGIN:VCALENDAR
PRODID:-//Session events Calendar//IBA//EN
CALSCALE:GREGORIAN
VERSION:2.0
BEGIN:VEVENT
DTSTAMP:20260420T113428Z
DTSTART:20221202T083000Z
DTEND:20221202T100000Z
SUMMARY:Breakout Sessions - Session two: Key trends in global mobility po
 licies
DESCRIPTION:Post the Pandemic assignee experience has been a key focus fo
 r companies moving their employees around the world and there is an emph
 asis on policies and resources that support employees mental\, physical 
 and financial health wherever they are located. There is also a focus on
  meaningful ethical and sustainability strategies. Climate change\, trav
 el costs and COVID -19 have caused businesses to rethink policies. Compa
 nies are also battling with remote work policies as more employees wish 
 to work remotely. How is business and the vendors which support business
  managing with these significant changes?
LOCATION:
UID:16fd0e6b-8b69-4153-87b1-49fe025db81e
END:VEVENT
END:VCALENDAR
