BEGIN:VCALENDAR
PRODID:-//Session events Calendar//IBA//EN
CALSCALE:GREGORIAN
VERSION:2.0
BEGIN:VEVENT
DTSTAMP:20260420T113427Z
DTSTART:20221202T103000Z
DTEND:20221202T120000Z
SUMMARY:Breakout Sessions - Session two: The race for talent
DESCRIPTION:As countries battle to attract the brightest and the best\, t
 his panel will look at the latest developments in efforts to attract the
  highly skilled and talented migrants\, particularly those with STEM ski
 lls. Are these schemes working? Are governments measuring how successful
  their programmes are? \n
LOCATION:
UID:8c6895a7-afa3-4c82-ad47-7c6bc8bdd10a
END:VEVENT
END:VCALENDAR
