BEGIN:VCALENDAR
PRODID:-//Session events Calendar//IBA//EN
CALSCALE:GREGORIAN
VERSION:2.0
BEGIN:VEVENT
DTSTAMP:20260425T182952Z
DTSTART:20230116T083000Z
DTEND:20230116T093000Z
SUMMARY:Permanent establishment
DESCRIPTION:\n	Employees or Directors working from home: PE or not PE?\n	
 Recent case law on PEs and evolving trends\n	BEPS Multilateral instrumen
 t and PEs: a changing landscape?\n	Focus on auxiliary and ancillary acti
 vities amounting to PE (eg.: warehouse and purchasing office\n\n
LOCATION:
UID:1433016a-3558-4c62-a608-917c6efde7d6
END:VEVENT
END:VCALENDAR
