BEGIN:VCALENDAR
PRODID:-//Session events Calendar//IBA//EN
CALSCALE:GREGORIAN
VERSION:2.0
BEGIN:VEVENT
DTSTAMP:20260425T182920Z
DTSTART:20230116T114500Z
DTEND:20230116T123000Z
SUMMARY:Current developments affecting the securitisation and derivatives
  markets
DESCRIPTION:The panel will discuss selected hot topics in each jurisdicti
 on:\n\n\n	Recognition of NPL losses in securitisation vehicles\n	Special
  purpose vehicles connected to securitisation transactions\n	Beneficial 
 ownership of derivatives in the light of the Danish cases\n	Derivatives 
 and cryptocurrencies\n\n
LOCATION:
UID:3a5801e5-2ccd-4543-a066-458d6fa8fd4c
END:VEVENT
END:VCALENDAR
