BEGIN:VCALENDAR
PRODID:-//Session events Calendar//IBA//EN
CALSCALE:GREGORIAN
VERSION:2.0
BEGIN:VEVENT
DTSTAMP:20260425T182951Z
DTSTART:20230117T083000Z
DTEND:20230117T100000Z
SUMMARY:Future of holding companies
DESCRIPTION:\n	Impact of Pillar 2 and EU directives\n	Fresh look at subst
 ance including ATAD3\, DEMPE\, new domestic rules (e.g.Canadian GAAR\, h
 armonizing substance)\n	What if conflict between analysis of substance i
 n Luxembourg conflicts with substance requirements in payor country?\n	B
 eneficial ownership\n	Impact on financings\n	Impact on funds\n	What if A
 TAD3 does not pass?\n\n
LOCATION:
UID:d1254d83-6759-4d40-be38-0126ceb42da8
END:VEVENT
END:VCALENDAR
