BEGIN:VCALENDAR
PRODID:-//Session events Calendar//IBA//EN
CALSCALE:GREGORIAN
VERSION:2.0
BEGIN:VEVENT
DTSTAMP:20260425T182952Z
DTSTART:20230117T113000Z
DTEND:20230117T123000Z
SUMMARY:Trends in private equity & credit funds
DESCRIPTION:\n	Tax issues in target jurisdictions (including anti-hybrid 
 rules)\n	Brief overview of holding companies\n	Tax challenges at fund le
 vel and choice of fund vehicle\n	Developments in carry structuring\n	Tax
  issues for managers (including creating PEs)\n	LP tax requests\n\n
LOCATION:
UID:1263ae2c-9dc9-48a8-b8d6-fa01a48aefcc
END:VEVENT
END:VCALENDAR
