BEGIN:VCALENDAR
PRODID:-//Session events Calendar//IBA//EN
CALSCALE:GREGORIAN
VERSION:2.0
BEGIN:VEVENT
DTSTAMP:20260425T182951Z
DTSTART:20230117T163000Z
DTEND:20230117T173000Z
SUMMARY:Decentralised finance (DeFi): how blockchain-based finance works 
 and how it is treated for tax purposes
DESCRIPTION:\nWhat is Decentralised Finance (DeFi)?\nHow are lending tran
 sactions on marketplaces like AAVE taxed?\nHow is the provision of liqui
 dity on DEXes like Uniswap taxed?\nHow is the provision of insurance cov
 erage on Nexus Mutual taxed?\nWhat are the tax consequences of DeFi rug 
 pulls?\n\n
LOCATION:
UID:4e67295c-c64c-436a-a865-0d6cea74cc7f
END:VEVENT
END:VCALENDAR
