BEGIN:VCALENDAR
PRODID:-//Session events Calendar//IBA//EN
CALSCALE:GREGORIAN
VERSION:2.0
BEGIN:VEVENT
DTSTAMP:20260425T182951Z
DTSTART:20230116T133000Z
DTEND:20230116T150000Z
SUMMARY:Cross border finance update
DESCRIPTION:\n	Multijurisdictional co-borrower structures\n	Debt push-dow
 ns and debt location\n	\n		Principal purpose developments\n	\n	\n	Exempt
 ions from withholding tax on interest\n	\n		Beneficial ownership\, princ
 ipal purpose\n	\n	\n	Distressed debt considerations for distressed acqui
 sitions\n	\n		Interest barrier rules and impact on acquiring non-perform
 ing investments\n		Impact of inflation and currency fluctuation on inter
 est barrier regimes\n	\n	\n\n
LOCATION:
UID:f63af5de-c0b3-45b2-a692-2a7b8f110c26
END:VEVENT
END:VCALENDAR
