BEGIN:VCALENDAR
PRODID:-//Session events Calendar//IBA//EN
CALSCALE:GREGORIAN
VERSION:2.0
BEGIN:VEVENT
DTSTAMP:20260421T062202Z
DTSTART:20230324T161500Z
DTEND:20230324T180000Z
SUMMARY:The in-house perspective on new tech tools reshaping legal servic
 es
DESCRIPTION:This panel will focus on the perspective of in-house lawyers 
 about all new tech tools and new ways of providing legal services. What 
 is innovative\, what is adding value\, is value being transferred to the
  client\, how can law firms improve their service offerings by merging t
 raditional legal services with innovative tools? What should companies e
 xpect from legal services providers in the years to come?
LOCATION:
UID:6bee7d57-af75-4d8b-bab7-f9493e4f59f6
END:VEVENT
END:VCALENDAR
