BEGIN:VCALENDAR
PRODID:-//Session events Calendar//IBA//EN
CALSCALE:GREGORIAN
VERSION:2.0
BEGIN:VEVENT
DTSTAMP:20260423T165107Z
DTSTART:20221104T173000Z
DTEND:20221104T185000Z
SUMMARY:Rule of Law workshop
DESCRIPTION:This interactive workshop will be facilitated by a panel of l
 egal practitioner from many\njurisdictions and regions. We will consider
 :\n\n	The meaning of the term ‘Rule of Law’\n	Practical examples of how 
 the Rule of Law will impact on the participants individually\,\n	their f
 amilies and business contacts.\n	The importance of the Rule of Law to bu
 sinesses\, the economy\, and the stability of civil\n	society.\n\n
LOCATION:
UID:9314a30e-6d04-44d7-9829-de0db924be42
END:VEVENT
END:VCALENDAR
