BEGIN:VCALENDAR
PRODID:-//Session events Calendar//IBA//EN
CALSCALE:GREGORIAN
VERSION:2.0
BEGIN:VEVENT
DTSTAMP:20260425T164841Z
DTSTART:20230330T021500Z
DTEND:20230330T033000Z
SUMMARY:Session two: Fintech’s impact on Asian financial markets I: the r
 egulatory and legislative developments in STO and digital exchanges
DESCRIPTION:This session will discuss:\n• the development of regulations 
 on security token offering (STO) in each jurisdiction\;\n• examples of s
 ecurity tokens\;\n• digital exchanges dealing with security tokens\; and
 \n• foreseeable impact on the financial market in Asia.
LOCATION:
UID:e440ad77-eaa4-450a-9793-3844be9eefdd
END:VEVENT
END:VCALENDAR
