BEGIN:VCALENDAR
PRODID:-//Session events Calendar//IBA//EN
CALSCALE:GREGORIAN
VERSION:2.0
BEGIN:VEVENT
DTSTAMP:20260425T020107Z
DTSTART:20231101T101500Z
DTEND:20231101T113000Z
SUMMARY:Working smarter: how young lawyers should manage their pricing st
 rategy
DESCRIPTION:Many young lawyers feel that they work more than what they ge
 t paid for. This session will provide tips on how to ensure that you are
  working smarter from a pricing perspective.
LOCATION:Room 251\, Level 2
UID:6f8246a9-6f1f-42ba-930f-acafd4e774c0
END:VEVENT
END:VCALENDAR
