BEGIN:VCALENDAR
PRODID:-//Session events Calendar//IBA//EN
CALSCALE:GREGORIAN
VERSION:2.0
BEGIN:VEVENT
DTSTAMP:20260421T183818Z
DTSTART:20231102T101500Z
DTEND:20231102T113000Z
SUMMARY:Challenges of and solutions to supply chain discontinuity in time
 s of armed conflict and increased trade disputes
DESCRIPTION:This session will examine the issues impacting global supply 
 chains in terms of conflict both in trade as well as on the actual battl
 efield\, the trend towards regional blocs and “near” or “friend” shoring
 \, and discuss solutions to assist global business operations.
LOCATION:Room 253\, Level 2
UID:2a3a7094-1503-4f3b-9793-49839aec80ec
END:VEVENT
END:VCALENDAR
