BEGIN:VCALENDAR
PRODID:-//Session events Calendar//IBA//EN
CALSCALE:GREGORIAN
VERSION:2.0
BEGIN:VEVENT
DTSTAMP:20260421T073138Z
DTSTART:20230301T161500Z
DTEND:20230301T173000Z
SUMMARY:The GC panel
DESCRIPTION:We will conclude the IBA ESG conference with a panel of gener
 al counsels that bring a global perspective from organisations across a 
 range of industries discussing the role of the GC in respect of ESG\, ho
 w they deal with ESG from a governance perspective\, what concerns them 
 most\, what trends they see and what they expect from their outside coun
 sel.\n
LOCATION:
UID:172400fa-9dad-4cb4-b2e0-3dd7f67a256c
END:VEVENT
END:VCALENDAR
