BEGIN:VCALENDAR
PRODID:-//Session events Calendar//IBA//EN
CALSCALE:GREGORIAN
VERSION:2.0
BEGIN:VEVENT
DTSTAMP:20260425T182920Z
DTSTART:20230116T104500Z
DTEND:20230116T105000Z
SUMMARY:Welcome from the IBA LPD Chair
DESCRIPTION:
LOCATION:
UID:58fbbc9a-4ccf-4f3c-951a-c034c99693bc
END:VEVENT
END:VCALENDAR
