BEGIN:VCALENDAR
PRODID:-//Session events Calendar//IBA//EN
CALSCALE:GREGORIAN
VERSION:2.0
BEGIN:VEVENT
DTSTAMP:20260424T181519Z
DTSTART:20230504T173000Z
DTEND:20230504T190000Z
SUMMARY:Cybersecurity: how clients and law firms should handle a data bre
 ach\, and the litigation arising from it
DESCRIPTION:What are the latest and best ways to protect your clients and
  your law firm from data hackers? What are best practices in the event o
 f a data hack? How do you enforce your clients’ rights in the event of a
  data hack?\n\n\n
LOCATION:
UID:e8664410-d25f-4af1-a673-d9878f6e2cae
END:VEVENT
END:VCALENDAR
